BEGIN:VCALENDAR
VERSION:2.0
PRODID:-//habitatmm.org//NONSGML kigkonsult.se iCalcreator 2.30.10//
CALSCALE:GREGORIAN
METHOD:PUBLISH
UID:91865bfd-86c2-4a30-9a37-752feaec8507
X-WR-CALDESC:Women Build is a hands-on\, multi-month event that brings wome
 n and participants of all gender together to learn new skills\, strengthen
  community\, and help build affordable homes alongside lower-income hardwo
 rking families in Montgomery and Prince George's Counties. Make a differen
 ce: Join Women Build!
X-WR-RELCALID:c249fb4cd0adcff29d58668a3130111b
X-WR-TIMEZONE:America/New_York
BEGIN:VTIMEZONE
TZID:America/New_York
BEGIN:STANDARD
TZNAME:EST
DTSTART:20251102T020000
TZOFFSETFROM:-0400
TZOFFSETTO:-0500
RDATE:20261101T020000
END:STANDARD
BEGIN:DAYLIGHT
TZNAME:EDT
DTSTART:20260308T020000
TZOFFSETFROM:-0500
TZOFFSETTO:-0400
RDATE:20270314T020000
END:DAYLIGHT
END:VTIMEZONE
BEGIN:VEVENT
UID:279d8e96-ca63-4174-93bf-5490f482d2e8
DTSTAMP:20260422T121936Z
DESCRIPTION:Women Build is a hands-on\, multi-month event that brings women
  and participants of all gender together to learn new skills\, strengthen 
 community\, and help build affordable homes alongside lower-income hardwor
 king families in Montgomery and Prince George's Counties. Make a differenc
 e: Join Women Build!
DTSTART;TZID=America/New_York:20260325T060000
DTEND;TZID=America/New_York:20260626T060001
LOCATION:
SUMMARY:Women Build 2026
END:VEVENT
END:VCALENDAR
